BEGIN:VCALENDAR
VERSION:2.0
PRODID:icalendar-ruby
CALSCALE:GREGORIAN
METHOD:PUBLISH
BEGIN:VEVENT
DTSTAMP:20260421T081233Z
UID:5-391747@holytrinitywallingford.com
DTSTART:20260719T143000Z
DTEND:20260719T153000Z
CLASS:PUBLIC
CREATED:20260420T205639
DESCRIPTION:Sunday Worship
LAST-MODIFIED:20260420T205639
LOCATION:
SUMMARY:Sunday Worship
URL;VALUE=URI:https://www.holytrinitywallingford.com/events/sunday-worship/
 2026-07-19
END:VEVENT
END:VCALENDAR
