BEGIN:VCALENDAR
VERSION:2.0
PRODID:icalendar-ruby
CALSCALE:GREGORIAN
METHOD:PUBLISH
BEGIN:VEVENT
DTSTAMP:20260419T181527Z
UID:5-389144@holytrinitywallingford.com
DTSTART:20260906T143000Z
DTEND:20260906T153000Z
CLASS:PUBLIC
CREATED:20260419T123811
DESCRIPTION:Sunday Worship
LAST-MODIFIED:20260419T123811
LOCATION:
SUMMARY:Sunday Worship
URL;VALUE=URI:https://www.holytrinitywallingford.com/events/sunday-worship/
 2026-09-06
END:VEVENT
END:VCALENDAR
