BEGIN:VCALENDAR
VERSION:2.0
PRODID:icalendar-ruby
CALSCALE:GREGORIAN
METHOD:PUBLISH
BEGIN:VEVENT
DTSTAMP:20260419T231935Z
UID:5-389408@holytrinitywallingford.com
DTSTART:20260927T143000Z
DTEND:20260927T153000Z
CLASS:PUBLIC
CREATED:20260419T162033
DESCRIPTION:Sunday Worship
LAST-MODIFIED:20260419T162033
LOCATION:
SUMMARY:Sunday Worship
URL;VALUE=URI:https://www.holytrinitywallingford.com/events/sunday-worship/
 2026-09-27
END:VEVENT
END:VCALENDAR
