BEGIN:VCALENDAR
VERSION:2.0
PRODID:icalendar-ruby
CALSCALE:GREGORIAN
METHOD:PUBLISH
BEGIN:VEVENT
DTSTAMP:20260420T034553Z
UID:5-389933@holytrinitywallingford.com
DTSTART:20261018T143000Z
DTEND:20261018T153000Z
CLASS:PUBLIC
CREATED:20260419T234036
DESCRIPTION:Sunday Worship
LAST-MODIFIED:20260419T234036
LOCATION:
SUMMARY:Sunday Worship
URL;VALUE=URI:https://www.holytrinitywallingford.com/events/sunday-worship/
 2026-10-18
END:VEVENT
END:VCALENDAR
