BEGIN:VCALENDAR
VERSION:2.0
PRODID:icalendar-ruby
CALSCALE:GREGORIAN
METHOD:PUBLISH
BEGIN:VEVENT
DTSTAMP:20260420T052638Z
UID:5-389934@holytrinitywallingford.com
DTSTART:20261025T143000Z
DTEND:20261025T153000Z
CLASS:PUBLIC
CREATED:20260419T234036
DESCRIPTION:Sunday Worship
LAST-MODIFIED:20260419T234036
LOCATION:
SUMMARY:Sunday Worship
URL;VALUE=URI:https://www.holytrinitywallingford.com/events/sunday-worship/
 2026-10-25
END:VEVENT
END:VCALENDAR
